BEGIN:VCALENDAR
VERSION:2.0
PRODID:-//Cayman Islands Angling Club - ECPv6.15.20//NONSGML v1.0//EN
CALSCALE:GREGORIAN
METHOD:PUBLISH
X-WR-CALNAME:Cayman Islands Angling Club
X-ORIGINAL-URL:https://fishcayman.com
X-WR-CALDESC:Events for Cayman Islands Angling Club
REFRESH-INTERVAL;VALUE=DURATION:PT1H
X-Robots-Tag:noindex
X-PUBLISHED-TTL:PT1H
BEGIN:VTIMEZONE
TZID:America/Cayman
BEGIN:STANDARD
TZOFFSETFROM:-0500
TZOFFSETTO:-0500
TZNAME:EST
DTSTART:20250101T000000
END:STANDARD
END:VTIMEZONE
BEGIN:VEVENT
DTSTART;VALUE=DATE:20260428
DTEND;VALUE=DATE:20260506
DTSTAMP:20260423T071605
CREATED:20251217T194009Z
LAST-MODIFIED:20251217T194009Z
UID:1568-1777334400-1778025599@fishcayman.com
SUMMARY:Cayman Islands International Fishing Tournament 2026
DESCRIPTION:The Cayman Islands International Fishing Tournament (CIIFT) is the Islands’ premier sportfishing experience for over 25 years and will be held on April 28 – May 5\, 2026. The tournament features a mix of local and international anglers competing for cash and prizes in various categories.
URL:https://fishcayman.com/event/cayman-islands-international-fishing-tournament-2026/
LOCATION:Cayman Islands\, Cayman Islands
ATTACH;FMTTYPE=image/webp:https://fishcayman.com/wp-content/uploads/2024/10/CIIFT-Logo.webp
END:VEVENT
BEGIN:VEVENT
DTSTART;VALUE=DATE:20260627
DTEND;VALUE=DATE:20260629
DTSTAMP:20260423T071605
CREATED:20251217T194329Z
LAST-MODIFIED:20251217T194403Z
UID:1570-1782518400-1782691199@fishcayman.com
SUMMARY:Billfish Bash 2026
DESCRIPTION:Join us for the Billfish Bash on June 27-28\, featuring exciting fishing days\, cash prizes\, and a grand prize ceremony at GTYC. Register now for your chance to compete in this premier tournament targeting Blue Marlin\, White Marlin\, Sailfish\, Spearfish\, and Dolphin!
URL:https://fishcayman.com/event/billfish-bash-2026/
LOCATION:Cayman Islands\, Cayman Islands
ATTACH;FMTTYPE=image/png:https://fishcayman.com/wp-content/uploads/2024/06/ciac-billfish-bash-logo-2024.png
END:VEVENT
BEGIN:VEVENT
DTSTART;VALUE=DATE:20261024
DTEND;VALUE=DATE:20261026
DTSTAMP:20260423T071605
CREATED:20251217T194542Z
LAST-MODIFIED:20251217T194542Z
UID:1572-1792800000-1792972799@fishcayman.com
SUMMARY:Driff N Dragg Shootout 2026
DESCRIPTION:Driff N Dragg Shootout will be held on 24&25 October\, 2026.
URL:https://fishcayman.com/event/driff-n-dragg-shootout-2026/
LOCATION:George Town Yacht Club
ATTACH;FMTTYPE=image/webp:https://fishcayman.com/wp-content/uploads/2024/10/CIAC-Driff-n-Drag.webp
END:VEVENT
END:VCALENDAR